BEGIN:VCALENDAR
VERSION:2.0
PRODID:-//Mad House Comedy Club - ECPv6.15.20//NONSGML v1.0//EN
CALSCALE:GREGORIAN
METHOD:PUBLISH
X-WR-CALNAME:Mad House Comedy Club
X-ORIGINAL-URL:https://madhousecomedyclub.com
X-WR-CALDESC:Events for Mad House Comedy Club
REFRESH-INTERVAL;VALUE=DURATION:PT1H
X-Robots-Tag:noindex
X-PUBLISHED-TTL:PT1H
BEGIN:VTIMEZONE
TZID:America/Los_Angeles
BEGIN:DAYLIGHT
TZOFFSETFROM:-0800
TZOFFSETTO:-0700
TZNAME:PDT
DTSTART:20250309T100000
END:DAYLIGHT
BEGIN:STANDARD
TZOFFSETFROM:-0700
TZOFFSETTO:-0800
TZNAME:PST
DTSTART:20251102T090000
END:STANDARD
BEGIN:DAYLIGHT
TZOFFSETFROM:-0800
TZOFFSETTO:-0700
TZNAME:PDT
DTSTART:20260308T100000
END:DAYLIGHT
BEGIN:STANDARD
TZOFFSETFROM:-0700
TZOFFSETTO:-0800
TZNAME:PST
DTSTART:20261101T090000
END:STANDARD
BEGIN:DAYLIGHT
TZOFFSETFROM:-0800
TZOFFSETTO:-0700
TZNAME:PDT
DTSTART:20270314T100000
END:DAYLIGHT
BEGIN:STANDARD
TZOFFSETFROM:-0700
TZOFFSETTO:-0800
TZNAME:PST
DTSTART:20271107T090000
END:STANDARD
END:VTIMEZONE
BEGIN:VEVENT
DTSTART;TZID=America/Los_Angeles:20260522T220000
DTEND;TZID=America/Los_Angeles:20260522T233000
DTSTAMP:20260424T080337
CREATED:20260423T061908Z
LAST-MODIFIED:20260423T061908Z
UID:10001499-1779487200-1779492600@madhousecomedyclub.com
SUMMARY:It's The World Famous Mad House Comedy Club's 8 Comedian Showcase Special starring  Nick Alexander as seen on Hulu\, American Horror Story\, FX\, Laughs on Fox and more!  Plus another 7 amazing stand up comics all on one show!
DESCRIPTION:This is ticket page for the Friday 10pm Show \n 
URL:https://madhousecomedyclub.com/event/its-the-world-famous-mad-house-comedy-clubs-8-comedian-showcase-special-starring-nick-alexander-as-seen-on-hulu-american-horror-story-fx-laughs-on-fox-and-more-plus-another-7-amazing-stand-u-2/
LOCATION:The World Famous Mad House Comedy Club\, 801 4th Ave\, Historic Gaslamp Quarter\, San Diego\, CA\, 92101\, United States
ATTACH;FMTTYPE=image/jpeg:https://madhousecomedyclub.com/wp-content/uploads/2026/04/Nick-Alexander-Wk-End-Fri-10pm-May-22-2026.jpg
END:VEVENT
END:VCALENDAR