BEGIN:VCALENDAR
VERSION:2.0
PRODID:-//Mad House Comedy Club - ECPv6.15.20//NONSGML v1.0//EN
CALSCALE:GREGORIAN
METHOD:PUBLISH
X-WR-CALNAME:Mad House Comedy Club
X-ORIGINAL-URL:https://madhousecomedyclub.com
X-WR-CALDESC:Events for Mad House Comedy Club
REFRESH-INTERVAL;VALUE=DURATION:PT1H
X-Robots-Tag:noindex
X-PUBLISHED-TTL:PT1H
BEGIN:VTIMEZONE
TZID:America/Los_Angeles
BEGIN:DAYLIGHT
TZOFFSETFROM:-0800
TZOFFSETTO:-0700
TZNAME:PDT
DTSTART:20250309T100000
END:DAYLIGHT
BEGIN:STANDARD
TZOFFSETFROM:-0700
TZOFFSETTO:-0800
TZNAME:PST
DTSTART:20251102T090000
END:STANDARD
BEGIN:DAYLIGHT
TZOFFSETFROM:-0800
TZOFFSETTO:-0700
TZNAME:PDT
DTSTART:20260308T100000
END:DAYLIGHT
BEGIN:STANDARD
TZOFFSETFROM:-0700
TZOFFSETTO:-0800
TZNAME:PST
DTSTART:20261101T090000
END:STANDARD
BEGIN:DAYLIGHT
TZOFFSETFROM:-0800
TZOFFSETTO:-0700
TZNAME:PDT
DTSTART:20270314T100000
END:DAYLIGHT
BEGIN:STANDARD
TZOFFSETFROM:-0700
TZOFFSETTO:-0800
TZNAME:PST
DTSTART:20271107T090000
END:STANDARD
END:VTIMEZONE
BEGIN:VEVENT
DTSTART;TZID=America/Los_Angeles:20260501T200000
DTEND;TZID=America/Los_Angeles:20260501T213000
DTSTAMP:20260424T052946
CREATED:20260422T075100Z
LAST-MODIFIED:20260422T075100Z
UID:10001468-1777665600-1777671000@madhousecomedyclub.com
SUMMARY:Its The World Famous Mad House Comedy Club's 8 Comedian Showcase Special starring G King as seen on Kevin Hart's hit show Hart of The City on Comedy Central's and more!  Plus another 7 amazing stand up comics all on one show!
DESCRIPTION:This is ticket page for the Friday 8pm Show \n 
URL:https://madhousecomedyclub.com/event/its-the-world-famous-mad-house-comedy-clubs-8-comedian-showcase-special-starring-g-king-as-seen-on-kevin-harts-hit-show-hart-of-the-city-on-comedy-centrals-and-more-plus-another-7-amazing-stan/
LOCATION:The World Famous Mad House Comedy Club\, 801 4th Ave\, Historic Gaslamp Quarter\, San Diego\, CA\, 92101\, United States
ATTACH;FMTTYPE=image/jpeg:https://madhousecomedyclub.com/wp-content/uploads/2026/04/Wk-End-G-King-Fri-8pm-May-1-2-2026.jpg
END:VEVENT
END:VCALENDAR