BEGIN:VCALENDAR
VERSION:2.0
PRODID:-//Mad House Comedy Club - ECPv6.15.20//NONSGML v1.0//EN
CALSCALE:GREGORIAN
METHOD:PUBLISH
X-WR-CALNAME:Mad House Comedy Club
X-ORIGINAL-URL:https://madhousecomedyclub.com
X-WR-CALDESC:Events for Mad House Comedy Club
REFRESH-INTERVAL;VALUE=DURATION:PT1H
X-Robots-Tag:noindex
X-PUBLISHED-TTL:PT1H
BEGIN:VTIMEZONE
TZID:America/Los_Angeles
BEGIN:DAYLIGHT
TZOFFSETFROM:-0800
TZOFFSETTO:-0700
TZNAME:PDT
DTSTART:20250309T100000
END:DAYLIGHT
BEGIN:STANDARD
TZOFFSETFROM:-0700
TZOFFSETTO:-0800
TZNAME:PST
DTSTART:20251102T090000
END:STANDARD
BEGIN:DAYLIGHT
TZOFFSETFROM:-0800
TZOFFSETTO:-0700
TZNAME:PDT
DTSTART:20260308T100000
END:DAYLIGHT
BEGIN:STANDARD
TZOFFSETFROM:-0700
TZOFFSETTO:-0800
TZNAME:PST
DTSTART:20261101T090000
END:STANDARD
BEGIN:DAYLIGHT
TZOFFSETFROM:-0800
TZOFFSETTO:-0700
TZNAME:PDT
DTSTART:20270314T100000
END:DAYLIGHT
BEGIN:STANDARD
TZOFFSETFROM:-0700
TZOFFSETTO:-0800
TZNAME:PST
DTSTART:20271107T090000
END:STANDARD
BEGIN:DAYLIGHT
TZOFFSETFROM:-0800
TZOFFSETTO:-0700
TZNAME:PDT
DTSTART:20280312T100000
END:DAYLIGHT
BEGIN:STANDARD
TZOFFSETFROM:-0700
TZOFFSETTO:-0800
TZNAME:PST
DTSTART:20281105T090000
END:STANDARD
END:VTIMEZONE
BEGIN:VEVENT
DTSTART;TZID=America/Los_Angeles:20261201T193000
DTEND;TZID=America/Los_Angeles:20271202T210000
DTSTAMP:20260422T071943
CREATED:20220129T101316Z
LAST-MODIFIED:20260419T223522Z
UID:10000055-1796153400-1827781200@madhousecomedyclub.com
SUMMARY:Purchase Page for the 2026 Mad House Comedy Club Annual Pass
DESCRIPTION:The Pass is good from today all the way till the end of 2026 :) \nDetails and faqs here: https://madhousecomedy.wpenginepowered.com/annual-pass-faqs/ \n 
URL:https://madhousecomedyclub.com/event/purchase-page-for-the-2022-mad-house-comedy-club-annual-pass/
LOCATION:The World Famous Mad House Comedy Club\, 801 4th Ave\, Historic Gaslamp Quarter\, San Diego\, CA\, 92101\, United States
ATTACH;FMTTYPE=image/png:https://madhousecomedyclub.com/wp-content/uploads/2022/01/Mad-House-Comedy-Club-annual-pass-offer.png
END:VEVENT
END:VCALENDAR