BEGIN:VCALENDAR
VERSION:2.0
PRODID:-//Mad House Comedy Club - ECPv6.15.20//NONSGML v1.0//EN
CALSCALE:GREGORIAN
METHOD:PUBLISH
X-WR-CALNAME:Mad House Comedy Club
X-ORIGINAL-URL:https://madhousecomedyclub.com
X-WR-CALDESC:Events for Mad House Comedy Club
REFRESH-INTERVAL;VALUE=DURATION:PT1H
X-Robots-Tag:noindex
X-PUBLISHED-TTL:PT1H
BEGIN:VTIMEZONE
TZID:America/Los_Angeles
BEGIN:DAYLIGHT
TZOFFSETFROM:-0800
TZOFFSETTO:-0700
TZNAME:PDT
DTSTART:20250309T100000
END:DAYLIGHT
BEGIN:STANDARD
TZOFFSETFROM:-0700
TZOFFSETTO:-0800
TZNAME:PST
DTSTART:20251102T090000
END:STANDARD
BEGIN:DAYLIGHT
TZOFFSETFROM:-0800
TZOFFSETTO:-0700
TZNAME:PDT
DTSTART:20260308T100000
END:DAYLIGHT
BEGIN:STANDARD
TZOFFSETFROM:-0700
TZOFFSETTO:-0800
TZNAME:PST
DTSTART:20261101T090000
END:STANDARD
BEGIN:DAYLIGHT
TZOFFSETFROM:-0800
TZOFFSETTO:-0700
TZNAME:PDT
DTSTART:20270314T100000
END:DAYLIGHT
BEGIN:STANDARD
TZOFFSETFROM:-0700
TZOFFSETTO:-0800
TZNAME:PST
DTSTART:20271107T090000
END:STANDARD
END:VTIMEZONE
BEGIN:VEVENT
DTSTART;TZID=America/Los_Angeles:20260502T220000
DTEND;TZID=America/Los_Angeles:20260502T233000
DTSTAMP:20260424T010943
CREATED:20260422T091348Z
LAST-MODIFIED:20260422T091348Z
UID:10001471-1777759200-1777764600@madhousecomedyclub.com
SUMMARY:Its The World Famous Mad House Comedy Club's 8 Comedian Showcase Special starring G King as seen on Kevin Hart's hit show Hart of The City on Comedy Central's and more!  Plus another 7 amazing stand up comics all on one show!
DESCRIPTION:This is ticket page for the Saturday 10pm Show \n 
URL:https://madhousecomedyclub.com/event/its-the-world-famous-mad-house-comedy-clubs-8-comedian-showcase-special-starring-g-king-as-seen-on-kevin-harts-hit-show-hart-of-the-city-on-comedy-centrals-and-more-plus-another-7-amazing-stan-4/
LOCATION:The World Famous Mad House Comedy Club\, 801 4th Ave\, Historic Gaslamp Quarter\, San Diego\, CA\, 92101\, United States
CATEGORIES:Slider
ATTACH;FMTTYPE=image/jpeg:https://madhousecomedyclub.com/wp-content/uploads/2026/04/Wk-End-G-Sat-10pm-King-May-1-2-2206-.jpg
END:VEVENT
BEGIN:VEVENT
DTSTART;TZID=America/Los_Angeles:20260503T200000
DTEND;TZID=America/Los_Angeles:20260503T213000
DTSTAMP:20260424T010943
CREATED:20260422T205543Z
LAST-MODIFIED:20260422T205543Z
UID:10001472-1777838400-1777843800@madhousecomedyclub.com
SUMMARY:It’s The World Famous Mad House Comedy Club Favorites Show starring Mike Falzone as seen on Netflix\, Hulu\, Adult Swim and more! Plus 6 more hilarious standup comedians all on one show!
DESCRIPTION:
URL:https://madhousecomedyclub.com/event/its-the-world-famous-mad-house-comedy-club-favorites-show-starring-mike-falzone-as-seen-on-netflix-hulu-adult-swim-and-more-plus-6-more-hilarious-standup-comedians-all-on-one-show/
LOCATION:The World Famous Mad House Comedy Club\, 801 4th Ave\, Historic Gaslamp Quarter\, San Diego\, CA\, 92101\, United States
CATEGORIES:Slider
ATTACH;FMTTYPE=image/png:https://madhousecomedyclub.com/wp-content/uploads/2026/04/Mike-Falzone-live-at-Mad-House.png
END:VEVENT
BEGIN:VEVENT
DTSTART;TZID=America/Los_Angeles:20260506T200000
DTEND;TZID=America/Los_Angeles:20260506T213000
DTSTAMP:20260424T010943
CREATED:20260422T210657Z
LAST-MODIFIED:20260422T210657Z
UID:10001475-1778097600-1778103000@madhousecomedyclub.com
SUMMARY:The SEVEN After Dark Show Starring Chris Espinoza! 7 Hilarious Stand Up Comedians Doing Their Best 10 min sets!
DESCRIPTION:
URL:https://madhousecomedyclub.com/event/the-seven-after-dark-show-starring-chris-espinoza-7-hilarious-stand-up-comedians-doing-their-best-10-min-sets/
LOCATION:The World Famous Mad House Comedy Club\, 801 4th Ave\, Historic Gaslamp Quarter\, San Diego\, CA\, 92101\, United States
CATEGORIES:Slider
ATTACH;FMTTYPE=image/png:https://madhousecomedyclub.com/wp-content/uploads/2026/04/The-Seven-After-Dark-Show-poster.png
END:VEVENT
BEGIN:VEVENT
DTSTART;TZID=America/Los_Angeles:20260507T200000
DTEND;TZID=America/Los_Angeles:20260507T213000
DTSTAMP:20260424T010943
CREATED:20260422T215232Z
LAST-MODIFIED:20260422T215232Z
UID:10001476-1778184000-1778189400@madhousecomedyclub.com
SUMMARY:It's The Mad House Favorite's Shows starring Jay Mandyam as seen on HBO's Silicon Valley\, Modern Family\, @midnight and more! Plus another 6 hilarious comics all on one show!
DESCRIPTION:
URL:https://madhousecomedyclub.com/event/its-the-mad-house-favorites-shows-starring-jay-mandyam-as-seen-on-hbos-silicon-valley-modern-family-midnight-and-more-plus-another-6-hilarious-comics-all-on-one-show/
LOCATION:The World Famous Mad House Comedy Club\, 801 4th Ave\, Historic Gaslamp Quarter\, San Diego\, CA\, 92101\, United States
CATEGORIES:Slider
ATTACH;FMTTYPE=image/png:https://madhousecomedyclub.com/wp-content/uploads/2026/04/Jay-Mandyam-Thurs-May-7-2026-.png
END:VEVENT
BEGIN:VEVENT
DTSTART;TZID=America/Los_Angeles:20260509T220000
DTEND;TZID=America/Los_Angeles:20260509T233000
DTSTAMP:20260424T010943
CREATED:20260423T003512Z
LAST-MODIFIED:20260423T003512Z
UID:10001480-1778364000-1778369400@madhousecomedyclub.com
SUMMARY:Its The World Famous Mad House Comedy Club's 8 Comedian Showcase Special starring Rubyn Warren as seen on Netflix\, Comedy Central\, BET\, Laff Mobbs Laff Tracks\, Laughs on Fox and more!  Plus another 7 amazing stand up comics all on one show!
DESCRIPTION:This is ticket page for the Saturday 10pm Show \n 
URL:https://madhousecomedyclub.com/event/its-the-world-famous-mad-house-comedy-clubs-8-comedian-showcase-special-starring-rubyn-warren-as-seen-on-netflix-comedy-central-bet-laff-mobbs-laff-tracks-laughs-on-fox-and-more-plus-another-7-4/
LOCATION:The World Famous Mad House Comedy Club\, 801 4th Ave\, Historic Gaslamp Quarter\, San Diego\, CA\, 92101\, United States
CATEGORIES:Slider
ATTACH;FMTTYPE=image/jpeg:https://madhousecomedyclub.com/wp-content/uploads/2026/04/Rubyn-Warren-Wk-End-Sat-10pm-May-8-9-2026.jpg
END:VEVENT
BEGIN:VEVENT
DTSTART;TZID=America/Los_Angeles:20260510T200000
DTEND;TZID=America/Los_Angeles:20260510T213000
DTSTAMP:20260424T010943
CREATED:20260423T004940Z
LAST-MODIFIED:20260423T004940Z
UID:10001481-1778443200-1778448600@madhousecomedyclub.com
SUMMARY:It’s The Mothers Day Show at The World Famous Mad House Comedy Club!
DESCRIPTION:
URL:https://madhousecomedyclub.com/event/its-the-mothers-day-show-at-the-world-famous-mad-house-comedy-club/
LOCATION:The World Famous Mad House Comedy Club\, 801 4th Ave\, Historic Gaslamp Quarter\, San Diego\, CA\, 92101\, United States
CATEGORIES:Slider
ATTACH;FMTTYPE=image/jpeg:https://madhousecomedyclub.com/wp-content/uploads/2026/04/Mothers-Day-May-10-2026.jpg
END:VEVENT
BEGIN:VEVENT
DTSTART;TZID=America/Los_Angeles:20260513T200000
DTEND;TZID=America/Los_Angeles:20260513T213000
DTSTAMP:20260424T010943
CREATED:20260423T011001Z
LAST-MODIFIED:20260423T011001Z
UID:10001485-1778702400-1778707800@madhousecomedyclub.com
SUMMARY:Its Booked and Dangerous Show! 9 Comics\, 90 min of Hilarity!
DESCRIPTION:..
URL:https://madhousecomedyclub.com/event/its-booked-and-dangerous-show-9-comics-90-min-of-hilarity/
LOCATION:The World Famous Mad House Comedy Club\, 801 4th Ave\, Historic Gaslamp Quarter\, San Diego\, CA\, 92101\, United States
CATEGORIES:Slider
ATTACH;FMTTYPE=image/jpeg:https://madhousecomedyclub.com/wp-content/uploads/2026/04/Booked-and-Dangerous-Wed-May-13-2026.jpg
END:VEVENT
BEGIN:VEVENT
DTSTART;TZID=America/Los_Angeles:20260514T200000
DTEND;TZID=America/Los_Angeles:20260514T213000
DTSTAMP:20260424T010943
CREATED:20260423T012714Z
LAST-MODIFIED:20260423T012714Z
UID:10001487-1778788800-1778794200@madhousecomedyclub.com
SUMMARY:The World Famous Mad House Comedy Club presents Alan Henderson and Friends!
DESCRIPTION:
URL:https://madhousecomedyclub.com/event/the-world-famous-mad-house-comedy-club-presents-alan-henderson-and-friends/
LOCATION:The World Famous Mad House Comedy Club\, 801 4th Ave\, Historic Gaslamp Quarter\, San Diego\, CA\, 92101\, United States
CATEGORIES:Slider
ATTACH;FMTTYPE=image/jpeg:https://madhousecomedyclub.com/wp-content/uploads/2026/04/Alan-Henderson-Thurs-May-14-2026.jpg
END:VEVENT
BEGIN:VEVENT
DTSTART;TZID=America/Los_Angeles:20260517T200000
DTEND;TZID=America/Los_Angeles:20260517T213000
DTSTAMP:20260424T010943
CREATED:20260423T041630Z
LAST-MODIFIED:20260423T235534Z
UID:10001493-1779048000-1779053400@madhousecomedyclub.com
SUMMARY:It’s The World Famous Mad House Comedy Club Favorites Show starring 8 hilarious standup comedians all on one show!
DESCRIPTION:
URL:https://madhousecomedyclub.com/event/its-the-world-famous-mad-house-comedy-club-favorites-show-starring-hilarious-standup-comedians-all-on-one-show/
LOCATION:The World Famous Mad House Comedy Club\, 801 4th Ave\, Historic Gaslamp Quarter\, San Diego\, CA\, 92101\, United States
CATEGORIES:Slider
ATTACH;FMTTYPE=image/png:https://madhousecomedyclub.com/wp-content/uploads/2026/04/MH-Favs-Sun-May-17-2026-.png
END:VEVENT
BEGIN:VEVENT
DTSTART;TZID=America/Los_Angeles:20260520T200000
DTEND;TZID=America/Los_Angeles:20260520T213000
DTSTAMP:20260424T010943
CREATED:20260423T042857Z
LAST-MODIFIED:20260423T042857Z
UID:10001496-1779307200-1779312600@madhousecomedyclub.com
SUMMARY:It’s The World Famous Mad House Comedy Club Favorites Show starring the hilarious Gabe Ramirez! Plus 7 more hilarious standup comedians all on one show!
DESCRIPTION:
URL:https://madhousecomedyclub.com/event/its-the-world-famous-mad-house-comedy-club-favorites-show-starring-the-hilarious-gabe-ramirez-plus-7-more-hilarious-standup-comedians-all-on-one-show/
LOCATION:The World Famous Mad House Comedy Club\, 801 4th Ave\, Historic Gaslamp Quarter\, San Diego\, CA\, 92101\, United States
CATEGORIES:Slider
ATTACH;FMTTYPE=image/jpeg:https://madhousecomedyclub.com/wp-content/uploads/2026/04/Gabe-Ramirez-Wed-May-20-2026.jpg
END:VEVENT
BEGIN:VEVENT
DTSTART;TZID=America/Los_Angeles:20260521T200000
DTEND;TZID=America/Los_Angeles:20260521T213000
DTSTAMP:20260424T010943
CREATED:20260423T044458Z
LAST-MODIFIED:20260423T044458Z
UID:10001497-1779393600-1779399000@madhousecomedyclub.com
SUMMARY:The hilarious Trenton Davis as seen on Laughs on Fox\, Bar Rescue and more!
DESCRIPTION:
URL:https://madhousecomedyclub.com/event/the-hilarious-trenton-davis-as-seen-on-laughs-on-fox-bar-rescue-and-more/
LOCATION:The World Famous Mad House Comedy Club\, 801 4th Ave\, Historic Gaslamp Quarter\, San Diego\, CA\, 92101\, United States
CATEGORIES:Slider
ATTACH;FMTTYPE=image/jpeg:https://madhousecomedyclub.com/wp-content/uploads/2026/04/Bilal-Young-Thurs-May-21-2026.jpg
END:VEVENT
BEGIN:VEVENT
DTSTART;TZID=America/Los_Angeles:20260523T220000
DTEND;TZID=America/Los_Angeles:20260523T233000
DTSTAMP:20260424T010943
CREATED:20260423T070114Z
LAST-MODIFIED:20260423T070114Z
UID:10001501-1779573600-1779579000@madhousecomedyclub.com
SUMMARY:It's The World Famous Mad House Comedy Club's 8 Comedian Showcase Special starring  Nick Alexander as seen on Hulu\, American Horror Story\, FX\, Laughs on Fox and more!  Plus another 7 amazing stand up comics all on one show!
DESCRIPTION:This is ticket page for the Saturday 10pm Show \n 
URL:https://madhousecomedyclub.com/event/its-the-world-famous-mad-house-comedy-clubs-8-comedian-showcase-special-starring-nick-alexander-as-seen-on-hulu-american-horror-story-fx-laughs-on-fox-and-more-plus-another-7-amazing-stand-u-4/
LOCATION:The World Famous Mad House Comedy Club\, 801 4th Ave\, Historic Gaslamp Quarter\, San Diego\, CA\, 92101\, United States
CATEGORIES:Slider
ATTACH;FMTTYPE=image/jpeg:https://madhousecomedyclub.com/wp-content/uploads/2026/04/Nick-Alexander-Wk-End-Sat-10pm-May-23-2026.jpg
END:VEVENT
BEGIN:VEVENT
DTSTART;TZID=America/Los_Angeles:20260524T200000
DTEND;TZID=America/Los_Angeles:20260524T213000
DTSTAMP:20260424T010943
CREATED:20260423T071953Z
LAST-MODIFIED:20260423T071953Z
UID:10001502-1779652800-1779658200@madhousecomedyclub.com
SUMMARY:It’s The World Famous Mad House Comedy Club Favorites Show starring Edrina Bliss Gibson as seen on GLEE\, Laughs on Fox\, MTV and more! Plus another 6 hilarious standup comedians all on one show!
DESCRIPTION:
URL:https://madhousecomedyclub.com/event/its-the-world-famous-mad-house-comedy-club-favorites-show-starring-edrina-bliss-gibson-as-seen-on-glee-laughs-on-fox-mtv-and-more-plus-another-6-hilarious-standup-comedians-all-on-one-show/
LOCATION:The World Famous Mad House Comedy Club\, 801 4th Ave\, Historic Gaslamp Quarter\, San Diego\, CA\, 92101\, United States
CATEGORIES:Slider
ATTACH;FMTTYPE=image/jpeg:https://madhousecomedyclub.com/wp-content/uploads/2026/04/Edi-Gibson-Sun-May-24th-2026.jpg
END:VEVENT
BEGIN:VEVENT
DTSTART;TZID=America/Los_Angeles:20260527T200000
DTEND;TZID=America/Los_Angeles:20260527T213000
DTSTAMP:20260424T010943
CREATED:20260423T080400Z
LAST-MODIFIED:20260423T080400Z
UID:10001505-1779912000-1779917400@madhousecomedyclub.com
SUMMARY:It’s The World Famous Mad House Comedy Club Favorites Show starring Char Ramtin as seen at The Netflix is a Joke Festival and more! Plus 6 more hilarious standup comedians all on one show!
DESCRIPTION:
URL:https://madhousecomedyclub.com/event/its-the-world-famous-mad-house-comedy-club-favorites-show-starring-char-ramtin-as-seen-at-the-netflix-is-a-joke-festival-and-more-plus-6-more-hilarious-standup-comedians-all-on-one-show/
LOCATION:The World Famous Mad House Comedy Club\, 801 4th Ave\, Historic Gaslamp Quarter\, San Diego\, CA\, 92101\, United States
CATEGORIES:Slider
ATTACH;FMTTYPE=image/jpeg:https://madhousecomedyclub.com/wp-content/uploads/2026/04/Char-Ramtin-Wed-May-27-2026.jpg
END:VEVENT
BEGIN:VEVENT
DTSTART;TZID=America/Los_Angeles:20260528T200000
DTEND;TZID=America/Los_Angeles:20260528T213000
DTSTAMP:20260424T010943
CREATED:20260423T082351Z
LAST-MODIFIED:20260423T082351Z
UID:10001506-1779998400-1780003800@madhousecomedyclub.com
SUMMARY:It’s The World Famous Mad House Comedy Club Favorites Show starring 8 hilarious standup comedians all on one show!
DESCRIPTION:
URL:https://madhousecomedyclub.com/event/its-the-world-famous-mad-house-comedy-club-favorites-show-starring-8-hilarious-standup-comedians-all-on-one-show/
LOCATION:The World Famous Mad House Comedy Club\, 801 4th Ave\, Historic Gaslamp Quarter\, San Diego\, CA\, 92101\, United States
CATEGORIES:Slider
ATTACH;FMTTYPE=image/jpeg:https://madhousecomedyclub.com/wp-content/uploads/2026/04/MH-Favs-Thurs-May-28-2026.jpg
END:VEVENT
BEGIN:VEVENT
DTSTART;TZID=America/Los_Angeles:20260530T220000
DTEND;TZID=America/Los_Angeles:20260530T233000
DTSTAMP:20260424T010943
CREATED:20260423T103833Z
LAST-MODIFIED:20260423T103833Z
UID:10001513-1780178400-1780183800@madhousecomedyclub.com
SUMMARY:It's The World Famous Mad House Comedy Club's 8 Comedian Showcase Special starring the one and only Jose Barrientos!  Plus another 7 amazing stand up comics all on one show!
DESCRIPTION:This is ticket page for the Saturday 10pm Show \n 
URL:https://madhousecomedyclub.com/event/its-the-world-famous-mad-house-comedy-clubs-8-comedian-showcase-special-starring-the-one-and-only-jose-barrientos-plus-another-7-amazing-stand-up-comics-all-on-one-show-4/
LOCATION:The World Famous Mad House Comedy Club\, 801 4th Ave\, Historic Gaslamp Quarter\, San Diego\, CA\, 92101\, United States
CATEGORIES:Slider
ATTACH;FMTTYPE=image/jpeg:https://madhousecomedyclub.com/wp-content/uploads/2026/04/Jose-Barrientos-Wk-End-Sat-10pm-May-30-2026.jpg
END:VEVENT
BEGIN:VEVENT
DTSTART;TZID=America/Los_Angeles:20260531T200000
DTEND;TZID=America/Los_Angeles:20260531T213000
DTSTAMP:20260424T010943
CREATED:20260423T085523Z
LAST-MODIFIED:20260423T085524Z
UID:10001507-1780257600-1780263000@madhousecomedyclub.com
SUMMARY:It’s The World Famous Mad House Comedy Club Favorites Show starring Martin Morrow as seen on Comedy Central\, NBC's Last Comic Standing\, St Denis Medical\, Laughs on Fox and more! Plus another 6 hilarious standup comedians all on one show!
DESCRIPTION:
URL:https://madhousecomedyclub.com/event/its-the-world-famous-mad-house-comedy-club-favorites-show-starring-martin-morrow-as-seen-on-comedy-central-nbcs-last-comic-standing-st-denis-medical-laughs-on-fox-and-more-plus-another/
LOCATION:The World Famous Mad House Comedy Club\, 801 4th Ave\, Historic Gaslamp Quarter\, San Diego\, CA\, 92101\, United States
CATEGORIES:Slider
ATTACH;FMTTYPE=image/jpeg:https://madhousecomedyclub.com/wp-content/uploads/2026/04/Martin-Morrow-May-31-2026.jpg
END:VEVENT
END:VCALENDAR